BEGIN:VCALENDAR
VERSION:2.0
METHOD:PUBLISH
PRODID:-//Telerik Inc.//Sitefinity CMS 13.1//EN
BEGIN:VTIMEZONE
TZID:UTC
BEGIN:STANDARD
DTSTART;VALUE=DATE:20200101
TZNAME:UTC
TZOFFSETFROM:+0000
TZOFFSETTO:+0000
END:STANDARD
END:VTIMEZONE
BEGIN:VEVENT
DESCRIPTION:The Sustainable Development Goals (SDGs) are inextricably linke
 d to each other and meeting these goals will require collaboration across 
 sectors. While improving health is clearly articulated in SDG 3 (Ensure he
 althy lives and wellbeing for all at all ages)\, it also comes through in 
 the other SDGs. For example\, improving air quality in cities can both hel
 p to reach climate targets but also improve the health of city-dwellers.Co
 llaboration within the health sector itself can be a challenge and working
  with other sectors perhaps even more so. What\, therefore\, are the resea
 rch priorities when it comes to multisectoral collaboration for health? Wh
 at are the key priorities for policymakers in particular? Which key gaps h
 ave been highlighted by researchers in the field?In this webinar\, we will
  discuss priorities for research on multisectoral collaboration for health
  to support the development of an agenda for future health policy and syst
 ems research\, an important first step to using the embedded approach towa
 rds health systems strengthening and universal health coverage. It will bu
 ild on a recent paper\, Identifying health policy and systems research pri
 orities on multisectoral collaboration for health in low-income and middle
 -income countries.ModeratorDr Sara Bennett\, Professor\, Johns Hopkins Blo
 omberg School of Public Health DiscussantsDr Charles Mwansambo\, Chief of 
 Health Services\, Ministry of Health\, MalawiDr Walaiporn Patcharanarumol\
 , Acting Director of Global Health Division\, Ministry of Public Health\, 
 ThailandDouglas Glandon\, PhD Candidate\, Johns Hopkins Bloomberg School o
 f Public Health
DTEND:20181120T150000Z
DTSTAMP:20210914T215644Z
DTSTART:20181120T140000Z
LOCATION:
SEQUENCE:0
SUMMARY:WEBINAR - Multisectoral collaboration for health: what are the prio
 rities?
UID:RFCALITEM637672534048165830
X-ALT-DESC;FMTTYPE=text/html:<div class="video-container"><div id="video" c
 lass="image_left" style="width:360px\;"><iframe width="360" height="263" s
 rc="https://www.youtube.com/embed/ysphRd4L0WM?hl=en&amp\;cc_lang_pref=en&a
 mp\;cc_load_policy=1" frameborder="0"></iframe></div></div><p><span>The Su
 stainable Development Goals (SDGs) are inextricably linked to each other a
 nd meeting these goals will require collaboration across sectors. While im
 proving health is clearly articulated in SDG 3 (Ensure healthy lives and w
 ellbeing for all at all ages)\, it also comes through in the other SDGs. F
 or example\, improving air quality in cities can both help to reach climat
 e targets but also improve the health of city-dwellers.</span></p><p><span
 >Collaboration within the health sector itself can be a challenge and work
 ing with other sectors perhaps even more so. What\, therefore\, are the re
 search priorities when it comes to multisectoral collaboration for health?
  What are the key priorities for policymakers in particular? Which key gap
 s have been highlighted by researchers in the field?</span></p><p><span>In
  this webinar\, we will discuss priorities for research on multisectoral c
 ollaboration for health to support the development of an agenda for future
  health policy and systems research\, an important first step to using the
  embedded approach towards health systems strengthening and universal heal
 th coverage. It will build on a recent paper\, <a href="https://gh.bmj.com
 /content/3/Suppl_4/e000970" target="_blank">Identifying health policy and 
 systems research priorities on multisectoral collaboration for health in l
 ow-income and middle-income countries</a>.</span></p><h4 class="section_he
 ad2">Moderator</h4><ul class="disc"><li><strong>Dr Sara Bennett</strong>\,
  Professor\, Johns Hopkins Bloomberg School of Public Health </li></ul><h4
  class="section_head2">Discussants</h4><ul class="disc"><li><strong>Dr Cha
 rles Mwansambo</strong>\, Chief of Health Services\, Ministry of Health\, 
 Malawi</li><li><strong>Dr Walaiporn Patcharanarumol</strong>\, Acting Dire
 ctor of Global Health Division\, Ministry of Public Health\, Thailand</li>
 <li><strong>Douglas Glandon\, PhD Candidate</strong>\, Johns Hopkins Bloom
 berg School of Public Health</li></ul>
END:VEVENT
END:VCALENDAR
