BEGIN:VCALENDAR
VERSION:2.0
METHOD:PUBLISH
PRODID:-//Telerik Inc.//Sitefinity CMS 13.1//EN
BEGIN:VEVENT
DESCRIPTION:The Cochrane Colloquium is an annual flagship event that brings
  together researchers\, practitioners\, decision- and policy-makers from a
 round the world to meet and discuss the ongoing challenges of producing\, 
 maintaining and disseminating high-quality systematic reviews that address
  questions of importance to health globally\, and in promoting evidence-in
 formed health care. The 23rd Cochrane Colloquium will be held 3-7 October 
 in Vienna\, Austria. \n23rd Cochrane Colloquium (Vienna\, Austria) \n				
DTEND;VALUE=DATE:20151004
DTSTAMP:20210915T160521Z
DTSTART;VALUE=DATE:20151003
LOCATION:Austria\,Vienna
SEQUENCE:0
SUMMARY:23rd Cochrane Colloquium
UID:RFCALITEM637673187215722565
X-ALT-DESC;FMTTYPE=text/html:<p><span>The Cochrane Colloquium is an annual 
 flagship event that brings together researchers\, practitioners\, decision
 - and policy-makers from around the world to meet and discuss the ongoing 
 challenges of producing\, maintaining and disseminating high-quality syste
 matic reviews that address questions of importance to health globally\, an
 d in promoting evidence-informed health care. The 23rd Cochrane Colloquium
  will be held 3-7 October in Vienna\, Austria. \n</span></p><ul class="lis
 t"><li><a href="https://colloquium.cochrane.org/" class="link_external" ta
 rget="_new">23rd Cochrane Colloquium (Vienna\, Austria)</a> \n				</li></u
 l>
END:VEVENT
END:VCALENDAR
