BEGIN:VCALENDAR
VERSION:2.0
METHOD:PUBLISH
PRODID:-//Telerik Inc.//Sitefinity CMS 13.1//EN
BEGIN:VEVENT
DESCRIPTION:
DTEND;VALUE=DATE:20151006
DTSTAMP:20210915T160513Z
DTSTART;VALUE=DATE:20151005
LOCATION:Switzerland\,Geneva
SEQUENCE:0
SUMMARY:Alliance Board Meeting
UID:RFCALITEM637673187136407096
X-ALT-DESC;FMTTYPE=text/html:
END:VEVENT
END:VCALENDAR
